BEGIN:VCALENDAR
VERSION:2.0
PRODID:-//基督教生命之道靈糧堂 - ECPv6.7.1//NONSGML v1.0//EN
CALSCALE:GREGORIAN
METHOD:PUBLISH
X-ORIGINAL-URL:https://wol.org.tw/wol
X-WR-CALDESC:Events for 基督教生命之道靈糧堂
REFRESH-INTERVAL;VALUE=DURATION:PT1H
X-Robots-Tag:noindex
X-PUBLISHED-TTL:PT1H
BEGIN:VTIMEZONE
TZID:Asia/Taipei
BEGIN:STANDARD
TZOFFSETFROM:+0800
TZOFFSETTO:+0800
TZNAME:CST
DTSTART:20240101T000000
END:STANDARD
END:VTIMEZONE
BEGIN:VEVENT
DTSTART;TZID=Asia/Taipei:20240825T124000
DTEND;TZID=Asia/Taipei:20240825T143000
DTSTAMP:20260419T212031
CREATED:20240814T020002Z
LAST-MODIFIED:20240814T020231Z
UID:220273-1724589600-1724596200@wol.org.tw
SUMMARY:查經課程－〈提摩太後書〉及保羅生平－1
DESCRIPTION:
URL:https://wol.org.tw/wol/event/%e6%9f%a5%e7%b6%93%e8%aa%b2%e7%a8%8b%ef%bc%8d%e3%80%88%e6%8f%90%e6%91%a9%e5%a4%aa%e5%be%8c%e6%9b%b8%e3%80%89%e5%8f%8a%e4%bf%9d%e7%be%85%e7%94%9f%e5%b9%b3%ef%bc%8d1/
LOCATION:生命之道靈糧堂6F\, 台中市西區三民路一段161號6F
ATTACH;FMTTYPE=image/jpeg:https://wol.org.tw/wol/wp-content/uploads/2024/07/2Timothy.jpg
END:VEVENT
END:VCALENDAR