BEGIN:VCALENDAR
VERSION:2.0
PRODID:-//基督教生命之道靈糧堂 - ECPv6.7.1//NONSGML v1.0//EN
CALSCALE:GREGORIAN
METHOD:PUBLISH
X-WR-CALNAME:基督教生命之道靈糧堂
X-ORIGINAL-URL:https://wol.org.tw/wol
X-WR-CALDESC:Events for 基督教生命之道靈糧堂
REFRESH-INTERVAL;VALUE=DURATION:PT1H
X-Robots-Tag:noindex
X-PUBLISHED-TTL:PT1H
BEGIN:VTIMEZONE
TZID:Asia/Taipei
BEGIN:STANDARD
TZOFFSETFROM:+0800
TZOFFSETTO:+0800
TZNAME:CST
DTSTART:20240101T000000
END:STANDARD
END:VTIMEZONE
BEGIN:VEVENT
DTSTART;VALUE=DATE:20240929
DTEND;VALUE=DATE:20240930
DTSTAMP:20260419T231616
CREATED:20240814T022358Z
LAST-MODIFIED:20240814T022358Z
UID:220289-1727568000-1727654399@wol.org.tw
SUMMARY:門訓課程開課
DESCRIPTION:
URL:https://wol.org.tw/wol/event/%e9%96%80%e8%a8%93%e8%aa%b2%e7%a8%8b%e9%96%8b%e8%aa%b2-2/
END:VEVENT
BEGIN:VEVENT
DTSTART;TZID=Asia/Taipei:20240929T100000
DTEND;TZID=Asia/Taipei:20240929T120000
DTSTAMP:20260419T231616
CREATED:20240814T022244Z
LAST-MODIFIED:20240814T022244Z
UID:220287-1727604000-1727611200@wol.org.tw
SUMMARY:Bill牧師特別主日
DESCRIPTION:
URL:https://wol.org.tw/wol/event/bill%e7%89%a7%e5%b8%ab%e7%89%b9%e5%88%a5%e4%b8%bb%e6%97%a5/
LOCATION:生命之道靈糧堂主日會堂\, 台中市西區三民路一段161號13F
END:VEVENT
BEGIN:VEVENT
DTSTART;TZID=Asia/Taipei:20240929T125000
DTEND;TZID=Asia/Taipei:20240929T140000
DTSTAMP:20260419T231616
CREATED:20240814T023058Z
LAST-MODIFIED:20240907T033418Z
UID:220299-1727614200-1727618400@wol.org.tw
SUMMARY:幸福小組預備週1
DESCRIPTION:
URL:https://wol.org.tw/wol/event/%e5%b9%b8%e7%a6%8f%e5%b0%8f%e7%b5%84%e9%a0%90%e5%82%99%e9%80%b11-2/
LOCATION:生命之道靈糧堂主日會堂\, 台中市西區三民路一段161號13F
END:VEVENT
END:VCALENDAR