BEGIN:VCALENDAR
VERSION:2.0
PRODID:-//基督教生命之道靈糧堂 - ECPv6.7.1//NONSGML v1.0//EN
CALSCALE:GREGORIAN
METHOD:PUBLISH
X-ORIGINAL-URL:https://wol.org.tw/wol
X-WR-CALDESC:Events for 基督教生命之道靈糧堂
REFRESH-INTERVAL;VALUE=DURATION:PT1H
X-Robots-Tag:noindex
X-PUBLISHED-TTL:PT1H
BEGIN:VTIMEZONE
TZID:Asia/Taipei
BEGIN:STANDARD
TZOFFSETFROM:+0800
TZOFFSETTO:+0800
TZNAME:CST
DTSTART:20240101T000000
END:STANDARD
END:VTIMEZONE
BEGIN:VEVENT
DTSTART;VALUE=DATE:20241009
DTEND;VALUE=DATE:20241013
DTSTAMP:20260420T011640
CREATED:20240814T022832Z
LAST-MODIFIED:20240814T033953Z
UID:220295-1728432000-1728777599@wol.org.tw
SUMMARY:台北靈糧堂70週年堂慶
DESCRIPTION:
URL:https://wol.org.tw/wol/event/%e5%8f%b0%e5%8c%97%e9%9d%88%e7%b3%a7%e5%a0%8270%e9%80%b1%e5%b9%b4%e5%a0%82%e6%85%b6/
ATTACH;FMTTYPE=image/jpeg:https://wol.org.tw/wol/wp-content/uploads/2024/08/hq720.jpg
END:VEVENT
BEGIN:VEVENT
DTSTART;VALUE=DATE:20241010
DTEND;VALUE=DATE:20241011
DTSTAMP:20260420T011640
CREATED:20240814T022927Z
LAST-MODIFIED:20240814T022927Z
UID:220297-1728518400-1728604799@wol.org.tw
SUMMARY:國慶日
DESCRIPTION:
URL:https://wol.org.tw/wol/event/%e5%9c%8b%e6%85%b6%e6%97%a5-2/
END:VEVENT
BEGIN:VEVENT
DTSTART;VALUE=DATE:20241010
DTEND;VALUE=DATE:20241011
DTSTAMP:20260420T011640
CREATED:20240814T023429Z
LAST-MODIFIED:20240814T023429Z
UID:220303-1728518400-1728604799@wol.org.tw
SUMMARY:再誓約婚禮
DESCRIPTION:
URL:https://wol.org.tw/wol/event/%e5%86%8d%e8%aa%93%e7%b4%84%e5%a9%9a%e7%a6%ae/
END:VEVENT
END:VCALENDAR