BEGIN:VCALENDAR
VERSION:2.0
PRODID:-//基督教生命之道靈糧堂 - ECPv6.7.1//NONSGML v1.0//EN
CALSCALE:GREGORIAN
METHOD:PUBLISH
X-ORIGINAL-URL:https://wol.org.tw/wol
X-WR-CALDESC:Events for 基督教生命之道靈糧堂
REFRESH-INTERVAL;VALUE=DURATION:PT1H
X-Robots-Tag:noindex
X-PUBLISHED-TTL:PT1H
BEGIN:VTIMEZONE
TZID:Asia/Taipei
BEGIN:STANDARD
TZOFFSETFROM:+0800
TZOFFSETTO:+0800
TZNAME:CST
DTSTART:20240101T000000
END:STANDARD
END:VTIMEZONE
BEGIN:VEVENT
DTSTART;TZID=Asia/Taipei:20241001T193000
DTEND;TZID=Asia/Taipei:20241001T213000
DTSTAMP:20260419T233011
CREATED:20240814T022506Z
LAST-MODIFIED:20240814T034915Z
UID:220291-1727811000-1727818200@wol.org.tw
SUMMARY:全教會禱告會
DESCRIPTION:
URL:https://wol.org.tw/wol/event/%e5%85%a8%e6%95%99%e6%9c%83%e7%a6%b1%e5%91%8a%e6%9c%83-5/
ATTACH;FMTTYPE=image/jpeg:https://wol.org.tw/wol/wp-content/uploads/2024/08/DSC05423.jpg
END:VEVENT
BEGIN:VEVENT
DTSTART;TZID=Asia/Taipei:20241006T100000
DTEND;TZID=Asia/Taipei:20241006T120000
DTSTAMP:20260419T233011
CREATED:20240814T022611Z
LAST-MODIFIED:20240907T033618Z
UID:220293-1728208800-1728216000@wol.org.tw
SUMMARY:二十週年慶
DESCRIPTION:
URL:https://wol.org.tw/wol/event/%e4%ba%8c%e5%8d%81%e9%80%b1%e5%b9%b4%e6%85%b6/
END:VEVENT
BEGIN:VEVENT
DTSTART;VALUE=DATE:20241009
DTEND;VALUE=DATE:20241013
DTSTAMP:20260419T233011
CREATED:20240814T022832Z
LAST-MODIFIED:20240814T033953Z
UID:220295-1728432000-1728777599@wol.org.tw
SUMMARY:台北靈糧堂70週年堂慶
DESCRIPTION:
URL:https://wol.org.tw/wol/event/%e5%8f%b0%e5%8c%97%e9%9d%88%e7%b3%a7%e5%a0%8270%e9%80%b1%e5%b9%b4%e5%a0%82%e6%85%b6/
ATTACH;FMTTYPE=image/jpeg:https://wol.org.tw/wol/wp-content/uploads/2024/08/hq720.jpg
END:VEVENT
BEGIN:VEVENT
DTSTART;VALUE=DATE:20241010
DTEND;VALUE=DATE:20241011
DTSTAMP:20260419T233011
CREATED:20240814T022927Z
LAST-MODIFIED:20240814T022927Z
UID:220297-1728518400-1728604799@wol.org.tw
SUMMARY:國慶日
DESCRIPTION:
URL:https://wol.org.tw/wol/event/%e5%9c%8b%e6%85%b6%e6%97%a5-2/
END:VEVENT
BEGIN:VEVENT
DTSTART;VALUE=DATE:20241010
DTEND;VALUE=DATE:20241011
DTSTAMP:20260419T233011
CREATED:20240814T023429Z
LAST-MODIFIED:20240814T023429Z
UID:220303-1728518400-1728604799@wol.org.tw
SUMMARY:再誓約婚禮
DESCRIPTION:
URL:https://wol.org.tw/wol/event/%e5%86%8d%e8%aa%93%e7%b4%84%e5%a9%9a%e7%a6%ae/
END:VEVENT
BEGIN:VEVENT
DTSTART;TZID=Asia/Taipei:20241013T125000
DTEND;TZID=Asia/Taipei:20241013T140000
DTSTAMP:20260419T233011
CREATED:20240814T023256Z
LAST-MODIFIED:20240907T040857Z
UID:220301-1728823800-1728828000@wol.org.tw
SUMMARY:幸福小組預備週2
DESCRIPTION:
URL:https://wol.org.tw/wol/event/%e5%b9%b8%e7%a6%8f%e5%b0%8f%e7%b5%84%e9%a0%90%e5%82%99%e9%80%b12-2/
LOCATION:生命之道靈糧堂主日會堂\, 台中市西區三民路一段161號13F
END:VEVENT
BEGIN:VEVENT
DTSTART;TZID=Asia/Taipei:20241019T190000
DTEND;TZID=Asia/Taipei:20241019T210000
DTSTAMP:20260419T233011
CREATED:20240814T023538Z
LAST-MODIFIED:20240814T023538Z
UID:220305-1729364400-1729371600@wol.org.tw
SUMMARY:曾陽晴特別主日
DESCRIPTION:
URL:https://wol.org.tw/wol/event/%e6%9b%be%e9%99%bd%e6%99%b4%e7%89%b9%e5%88%a5%e4%b8%bb%e6%97%a5/
LOCATION:生命之道靈糧堂青年會堂\, 台中市西區中興街183號B2
END:VEVENT
BEGIN:VEVENT
DTSTART;VALUE=DATE:20241020
DTEND;VALUE=DATE:20241021
DTSTAMP:20260419T233011
CREATED:20240814T023750Z
LAST-MODIFIED:20240814T023750Z
UID:220309-1729382400-1729468799@wol.org.tw
SUMMARY:幸福小組開始
DESCRIPTION:
URL:https://wol.org.tw/wol/event/%e5%b9%b8%e7%a6%8f%e5%b0%8f%e7%b5%84%e9%96%8b%e5%a7%8b/
END:VEVENT
BEGIN:VEVENT
DTSTART;TZID=Asia/Taipei:20241020T100000
DTEND;TZID=Asia/Taipei:20241020T120000
DTSTAMP:20260419T233011
CREATED:20240814T023655Z
LAST-MODIFIED:20240814T023655Z
UID:220307-1729418400-1729425600@wol.org.tw
SUMMARY:曾陽晴特別主日
DESCRIPTION:
URL:https://wol.org.tw/wol/event/%e6%9b%be%e9%99%bd%e6%99%b4%e7%89%b9%e5%88%a5%e4%b8%bb%e6%97%a5-2/
LOCATION:生命之道靈糧堂主日會堂\, 台中市西區三民路一段161號13F
END:VEVENT
END:VCALENDAR