BEGIN:VCALENDAR
VERSION:2.0
PRODID:-//基督教生命之道靈糧堂 - ECPv6.7.1//NONSGML v1.0//EN
CALSCALE:GREGORIAN
METHOD:PUBLISH
X-ORIGINAL-URL:https://wol.org.tw/wol
X-WR-CALDESC:Events for 基督教生命之道靈糧堂
REFRESH-INTERVAL;VALUE=DURATION:PT1H
X-Robots-Tag:noindex
X-PUBLISHED-TTL:PT1H
BEGIN:VTIMEZONE
TZID:Asia/Taipei
BEGIN:STANDARD
TZOFFSETFROM:+0800
TZOFFSETTO:+0800
TZNAME:CST
DTSTART:20240101T000000
END:STANDARD
END:VTIMEZONE
BEGIN:VEVENT
DTSTART;TZID=Asia/Taipei:20241105T193000
DTEND;TZID=Asia/Taipei:20241105T213000
DTSTAMP:20260420T011834
CREATED:20240814T023841Z
LAST-MODIFIED:20240814T023841Z
UID:220311-1730835000-1730842200@wol.org.tw
SUMMARY:神蹟禱告會
DESCRIPTION:
URL:https://wol.org.tw/wol/event/%e7%a5%9e%e8%b9%9f%e7%a6%b1%e5%91%8a%e6%9c%83-7/
END:VEVENT
BEGIN:VEVENT
DTSTART;VALUE=DATE:20241128
DTEND;VALUE=DATE:20241129
DTSTAMP:20260420T011834
CREATED:20240814T023929Z
LAST-MODIFIED:20240814T033318Z
UID:220313-1732752000-1732838399@wol.org.tw
SUMMARY:感恩節
DESCRIPTION:
URL:https://wol.org.tw/wol/event/%e6%84%9f%e6%81%a9%e7%af%80/
ATTACH;FMTTYPE=image/jpeg:https://wol.org.tw/wol/wp-content/uploads/2024/08/happythanksgiving.jpg
END:VEVENT
BEGIN:VEVENT
DTSTART;VALUE=DATE:20241130
DTEND;VALUE=DATE:20241201
DTSTAMP:20260420T011834
CREATED:20240814T024032Z
LAST-MODIFIED:20240814T024032Z
UID:220315-1732924800-1733011199@wol.org.tw
SUMMARY:兒童聖誕音樂劇
DESCRIPTION:
URL:https://wol.org.tw/wol/event/%e5%85%92%e7%ab%a5%e8%81%96%e8%aa%95%e9%9f%b3%e6%a8%82%e5%8a%87-2/
END:VEVENT
END:VCALENDAR